{
 "currentVersion": 11.5,
 "cimVersion": "3.5.0",
 "serviceDescription": " This service feeds into a public web map that lists all pollutants and quick access to the TMDL documentation for waters regulated through KDHE. Section 303(d) of the Clean Water Act calls for each state to identify those waters within its boundaries for which effluent limitations are not stringent enough to implement any water quality standard applicable to such waters. The state also priority ranks those waters, accounting for the severity of the pollution and the uses to be made of the waters. For those identified waters, the state is to establish the total maximum daily load (TMDL) for those pollutants causing the non-attainment of the water quality standards. Such loads are to be established at a level necessary to implement the applicable water quality standard with seasonal variations and a margin of safety, which accounts for uncertainty concerning the relationship between effluent limitations and water quality.<\/span><\/p><\/div>",
 "mapName": "TMDL_303d_cache_external",
 "description": "This service feeds into a public web map that lists all pollutants and quick access to the TMDL documentation for waters regulated through KDHE. Section 303(d) of the Clean Water Act calls for each state to identify those waters within its boundaries for which effluent limitations are not stringent enough to implement any water quality standard applicable to such waters. The state also priority ranks those waters, accounting for the severity of the pollution and the uses to be made of the waters. For those identified waters, the state is to establish the total maximum daily load (TMDL) for those pollutants causing the non-attainment of the water quality standards. Such loads are to be established at a level necessary to implement the applicable water quality standard with seasonal variations and a margin of safety, which accounts for uncertainty concerning the relationship between effluent limitations and water quality.",
 "copyrightText": "KDHE, Kansas Department of Health and Environment, Bureau of Water",
 "supportsDynamicLayers": true,
 "layers": [
  {
   "id": 0,
   "name": "303d Stream - Approved",
   "parentLayerId": -1,
   "defaultVisibility": true,
   "subLayerIds": null,
   "minScale": 5000000,
   "maxScale": 0,
   "type": "Feature Layer",
   "geometryType": "esriGeometryPolyline",
   "supportsDynamicLegends": true
  },
  {
   "id": 1,
   "name": "303d Lake - Approved",
   "parentLayerId": -1,
   "defaultVisibility": true,
   "subLayerIds": null,
   "minScale": 5000000,
   "maxScale": 0,
   "type": "Feature Layer",
   "geometryType": "esriGeometryPolygon",
   "supportsDynamicLegends": true
  }
 ],
 "tables": [],
 "spatialReference": {
  "wkid": 102100,
  "latestWkid": 3857,
  "xyTolerance": 0.001,
  "zTolerance": 0.001,
  "mTolerance": 0.001,
  "falseX": -20037700,
  "falseY": -30241100,
  "xyUnits": 10000,
  "falseZ": -100000,
  "zUnits": 10000,
  "falseM": -100000,
  "mUnits": 10000
 },
 "singleFusedMapCache": true,
 "tileInfo": {
  "rows": 256,
  "cols": 256,
  "dpi": 96,
  "format": "PNG",
  "compressionQuality": 0,
  "origin": {
   "x": -2.0037508342787E7,
   "y": 2.0037508342787E7
  },
  "spatialReference": {
   "wkid": 102100,
   "latestWkid": 3857,
   "xyTolerance": 0.001,
   "zTolerance": 0.001,
   "mTolerance": 0.001,
   "falseX": -20037700,
   "falseY": -30241100,
   "xyUnits": 1.4892314192838538E8,
   "falseZ": -100000,
   "zUnits": 10000,
   "falseM": -100000,
   "mUnits": 10000
  },
  "lods": [
   {
    "level": 0,
    "resolution": 156543.033928,
    "scale": 5.91657527591555E8
   },
   {
    "level": 1,
    "resolution": 78271.5169639999,
    "scale": 2.95828763795777E8
   },
   {
    "level": 2,
    "resolution": 39135.7584820001,
    "scale": 1.47914381897889E8
   },
   {
    "level": 3,
    "resolution": 19567.8792409999,
    "scale": 7.3957190948944E7
   },
   {
    "level": 4,
    "resolution": 9783.93962049996,
    "scale": 3.6978595474472E7
   },
   {
    "level": 5,
    "resolution": 4891.96981024998,
    "scale": 1.8489297737236E7
   },
   {
    "level": 6,
    "resolution": 2445.98490512499,
    "scale": 9244648.868618
   },
   {
    "level": 7,
    "resolution": 1222.99245256249,
    "scale": 4622324.434309
   },
   {
    "level": 8,
    "resolution": 611.49622628138,
    "scale": 2311162.217155
   },
   {
    "level": 9,
    "resolution": 305.748113140558,
    "scale": 1155581.108577
   },
   {
    "level": 10,
    "resolution": 152.874056570411,
    "scale": 577790.554289
   },
   {
    "level": 11,
    "resolution": 76.4370282850732,
    "scale": 288895.277144
   },
   {
    "level": 12,
    "resolution": 38.2185141425366,
    "scale": 144447.638572
   },
   {
    "level": 13,
    "resolution": 19.1092570712683,
    "scale": 72223.819286
   },
   {
    "level": 14,
    "resolution": 9.55462853563415,
    "scale": 36111.909643
   },
   {
    "level": 15,
    "resolution": 4.77731426794937,
    "scale": 18055.954822
   },
   {
    "level": 16,
    "resolution": 2.38865713397468,
    "scale": 9027.977411
   },
   {
    "level": 17,
    "resolution": 1.19432856685505,
    "scale": 4513.988705
   },
   {
    "level": 18,
    "resolution": 0.597164283559817,
    "scale": 2256.994353
   },
   {
    "level": 19,
    "resolution": 0.298582141647617,
    "scale": 1128.497176
   },
   {
    "level": 20,
    "resolution": 0.14929107082380833,
    "scale": 564.248588
   },
   {
    "level": 21,
    "resolution": 0.07464553541190416,
    "scale": 282.124294
   },
   {
    "level": 22,
    "resolution": 0.03732276770595208,
    "scale": 141.062147
   },
   {
    "level": 23,
    "resolution": 0.01866138385297604,
    "scale": 70.5310735
   }
  ]
 },
 "storageInfo": {
  "storageFormat": "esriMapCacheStorageModeCompactV2",
  "packetSize": 128
 },
 "initialExtent": {
  "xmin": -1.0980690381172128E7,
  "ymin": 4594340.683530445,
  "xmax": -1.0595179835885972E7,
  "ymax": 4892788.196399906,
  "spatialReference": {
   "cs": "pcs",
   "wkid": 102100
  }
 },
 "fullExtent": {
  "xmin": -1.13603556626E7,
  "ymin": 4438923.654700011,
  "xmax": -1.0531666164799996E7,
  "ymax": 4866399.319499999,
  "spatialReference": {
   "cs": "pcs",
   "wkid": 102100
  }
 },
 "datesInUnknownTimezone": false,
 "minScale": 9244648.868618,
 "maxScale": 144447.638572,
 "minLOD": 6,
 "maxLOD": 14,
 "units": "esriMeters",
 "supportedImageFormatTypes": "PNG32,PNG24,PNG,JPG,DIB,TIFF,EMF,PS,PDF,GIF,SVG,SVGZ,BMP",
 "documentInfo": {
  "Title": "TMDL 303(d) Listing",
  "Author": "",
  "Comments": "This service feeds into a public web map that lists all pollutants and quick access to the TMDL documentation for waters regulated through KDHE. Section 303(d) of the Clean Water Act calls for each state to identify those waters within its boundaries for which effluent limitations are not stringent enough to implement any water quality standard applicable to such waters. The state also priority ranks those waters, accounting for the severity of the pollution and the uses to be made of the waters. For those identified waters, the state is to establish the total maximum daily load (TMDL) for those pollutants causing the non-attainment of the water quality standards. Such loads are to be established at a level necessary to implement the applicable water quality standard with seasonal variations and a margin of safety, which accounts for uncertainty concerning the relationship between effluent limitations and water quality.",
  "Subject": "Section 303(d) of the Clean Water Act calls for each state to identify those waters within its boundaries for which effluent limitations are not stringent enough to implement any water quality standard applicable to such waters.",
  "Category": "",
  "Version": "3.5.0",
  "AntialiasingMode": "Fast",
  "TextAntialiasingMode": "Force",
  "Keywords": "KDHE,BOW,TMDL,303d,water impairments,Kansas Department of Health and Environment,Bureau of Water,Total Maximum Daily Load,Impaired Waters,Watershed,stream,lake"
 },
 "supportsQueryDomains": true,
 "capabilities": "Map,Query,Data,TileMap",
 "supportedQueryFormats": "JSON, geoJSON, PBF",
 "exportTilesAllowed": false,
 "referenceScale": 0.0,
 "supportsDatumTransformation": true,
 "archivingInfo": {
  "supportsHistoricMoment": false
 },
 "supportsClipping": true,
 "supportsSpatialFilter": true,
 "supportsTimeRelation": true,
 "supportsQueryDataElements": true,
 "mapUnits": {
  "uwkid": 9001
 },
 "maxSelectionCount": 2000,
 "maxRecordCount": 2000,
 "maxImageHeight": 4096,
 "maxImageWidth": 4096,
 "supportedExtensions": "FeatureServer"
}
