View In:
ArcGIS JavaScript
ArcGIS Online Map Viewer
ArcGIS Earth
ArcGIS Pro
Service Description: <div style='text-align:Left;font-size:12pt'><p><span>This service feeds into a public web map that lists all pollutants and quick access to the TMDL documentation for waters regulated through KDHE. Section 303(d) of the Clean Water Act calls for each state to identify those waters within its boundaries for which effluent limitations are not stringent enough to implement any water quality standard applicable to such waters. The state also priority ranks those waters, accounting for the severity of the pollution and the uses to be made of the waters. For those identified waters, the state is to establish the total maximum daily load (TMDL) for those pollutants causing the non-attainment of the water quality standards. Such loads are to be established at a level necessary to implement the applicable water quality standard with seasonal variations and a margin of safety, which accounts for uncertainty concerning the relationship between effluent limitations and water quality.</span></p></div>
Map Name: TMDL_303d_cache_external
Legend
All Layers and Tables
Dynamic Legend
Dynamic All Layers
Layers:
Description: This service feeds into a public web map that lists all pollutants and quick access to the TMDL documentation for waters regulated through KDHE. Section 303(d) of the Clean Water Act calls for each state to identify those waters within its boundaries for which effluent limitations are not stringent enough to implement any water quality standard applicable to such waters. The state also priority ranks those waters, accounting for the severity of the pollution and the uses to be made of the waters. For those identified waters, the state is to establish the total maximum daily load (TMDL) for those pollutants causing the non-attainment of the water quality standards. Such loads are to be established at a level necessary to implement the applicable water quality standard with seasonal variations and a margin of safety, which accounts for uncertainty concerning the relationship between effluent limitations and water quality.
Copyright Text: KDHE, Kansas Department of Health and Environment, Bureau of Water
Spatial Reference:
102100
(3857)
LatestVCSWkid(0)
Single Fused Map Cache: true
Tile Info:
- Height: 256.0
- Width: 256.0
- DPI: 96.0
-
Levels of Detail: 24
-
Level ID: 1
[ Start Tile, End Tile ]
- Resolution: 78271.5169639999
- Scale: 2.95828763795777E8
-
Level ID: 2
[ Start Tile, End Tile ]
- Resolution: 39135.7584820001
- Scale: 1.47914381897889E8
-
Level ID: 3
[ Start Tile, End Tile ]
- Resolution: 19567.8792409999
- Scale: 7.3957190948944E7
-
Level ID: 4
[ Start Tile, End Tile ]
- Resolution: 9783.93962049996
- Scale: 3.6978595474472E7
-
Level ID: 5
[ Start Tile, End Tile ]
- Resolution: 4891.96981024998
- Scale: 1.8489297737236E7
- Format: PNG
- Compression Quality: 0.0
- Origin: X: -2.0037508342787E7
Y: 2.0037508342787E7
- Spatial Reference: 102100
(3857)
LatestVCSWkid(0)
Storage Info:
- Storage Format: esriMapCacheStorageModeCompactV2
- Packet Size: 128
Initial Extent:
XMin: -1.0980690381172128E7
YMin: 4594340.683530445
XMax: -1.0595179835885972E7
YMax: 4892788.196399906
Spatial Reference: 102100
(0)
LatestVCSWkid(0)
Full Extent:
XMin: -1.13603556626E7
YMin: 4438923.654700011
XMax: -1.0531666164799996E7
YMax: 4866399.319499999
Spatial Reference: 102100
(0)
LatestVCSWkid(0)
Units: esriMeters
Supported Image Format Types: PNG32,PNG24,PNG,JPG,DIB,TIFF,EMF,PS,PDF,GIF,SVG,SVGZ,BMP
Document Info:
Title: TMDL 303(d) Listing
Author:
Comments: This service feeds into a public web map that lists all pollutants and quick access to the TMDL documentation for waters regulated through KDHE. Section 303(d) of the Clean Water Act calls for each state to identify those waters within its boundaries for which effluent limitations are not stringent enough to implement any water quality standard applicable to such waters. The state also priority ranks those waters, accounting for the severity of the pollution and the uses to be made of the waters. For those identified waters, the state is to establish the total maximum daily load (TMDL) for those pollutants causing the non-attainment of the water quality standards. Such loads are to be established at a level necessary to implement the applicable water quality standard with seasonal variations and a margin of safety, which accounts for uncertainty concerning the relationship between effluent limitations and water quality.
Subject: Section 303(d) of the Clean Water Act calls for each state to identify those waters within its boundaries for which effluent limitations are not stringent enough to implement any water quality standard applicable to such waters.
Category:
Keywords: KDHE,BOW,TMDL,303d,water impairments,Kansas Department of Health and Environment,Bureau of Water,Total Maximum Daily Load,Impaired Waters,Watershed,stream,lake
AntialiasingMode: Fast
TextAntialiasingMode: Force
Supports Dynamic Layers: true
MaxRecordCount: 2000
MaxSelectionCount: 2000
MaxImageHeight: 4096
MaxImageWidth: 4096
Supported Query Formats: JSON, geoJSON, PBF
Supports Query Data Elements: true
Min Scale: 9244648.868618
Max Scale: 144447.638572
Min LOD: 6
Max LOD: 14
Supports Datum Transformation: true
Child Resources:
Info
Dynamic Layer
Supported Operations:
Export Map
Identify
QueryLegends
QueryDomains
Find
Return Updates